BEGIN:VCALENDAR
VERSION:2.0
PRODID:-//Quartierzentrum Gyriträff - ECPv6.0.6.2//NONSGML v1.0//EN
CALSCALE:GREGORIAN
METHOD:PUBLISH
X-ORIGINAL-URL:https://www.gyritraeff.ch
X-WR-CALDESC:Veranstaltungen für Quartierzentrum Gyriträff
REFRESH-INTERVAL;VALUE=DURATION:PT1H
X-Robots-Tag:noindex
X-PUBLISHED-TTL:PT1H
BEGIN:VTIMEZONE
TZID:Europe/Zurich
BEGIN:DAYLIGHT
TZOFFSETFROM:+0100
TZOFFSETTO:+0200
TZNAME:CEST
DTSTART:20260329T010000
END:DAYLIGHT
BEGIN:STANDARD
TZOFFSETFROM:+0200
TZOFFSETTO:+0100
TZNAME:CET
DTSTART:20261025T010000
END:STANDARD
END:VTIMEZONE
BEGIN:VEVENT
DTSTART;TZID=Europe/Zurich:20260420T200000
DTEND;TZID=Europe/Zurich:20260420T220000
DTSTAMP:20260421T125830
CREATED:20260107T125916Z
LAST-MODIFIED:20260107T130424Z
UID:3474-1776715200-1776722400@www.gyritraeff.ch
SUMMARY:Jassen - Freiwilligengruppe
DESCRIPTION:
URL:https://www.gyritraeff.ch/event/jassen-freiwilligengruppe-10-2-2-2-2-2-2-2-3-2-2-2-4/
END:VEVENT
BEGIN:VEVENT
DTSTART;TZID=Europe/Zurich:20260417T150000
DTEND;TZID=Europe/Zurich:20260417T180000
DTSTAMP:20260421T125830
CREATED:20260320T095607Z
LAST-MODIFIED:20260320T095607Z
UID:4003-1776438000-1776448800@www.gyritraeff.ch
SUMMARY:Frühlingferientage
DESCRIPTION:Jubu\nSpielparcour\nDorfplatz der Überbauung GeWo Thunstrasse 24\nAb 15.00 – 18.00 Uhr
URL:https://www.gyritraeff.ch/event/fruehlingferientage/
END:VEVENT
BEGIN:VEVENT
DTSTART;TZID=Europe/Zurich:20260416T143000
DTEND;TZID=Europe/Zurich:20260416T163000
DTSTAMP:20260421T125830
CREATED:20260107T214101Z
LAST-MODIFIED:20260107T214106Z
UID:3699-1776349800-1776357000@www.gyritraeff.ch
SUMMARY:Elterntreff Plus im Gyriträff
DESCRIPTION:Treffpunkt für Eltern und Kinder im Vorschulalter mit Sprachförderung. \n 
URL:https://www.gyritraeff.ch/event/elterntreff-plus-im-gyritraeff-2-2-2-2-2-2-2-3-2-2-2-2-2-2-2-2-2-2-2-2-2-2/
END:VEVENT
BEGIN:VEVENT
DTSTART;TZID=Europe/Zurich:20260416T133000
DTEND;TZID=Europe/Zurich:20260416T163000
DTSTAMP:20260421T125830
CREATED:20260320T094816Z
LAST-MODIFIED:20260320T094816Z
UID:4000-1776346200-1776357000@www.gyritraeff.ch
SUMMARY:Frühlingsferientage
DESCRIPTION:Jubu\nFahrender Spielplatz\, Tischtennis\, Töggelen\, Hüpfburg\, Kaffee/Tee\nReformierte Kirche Neumatt ab 13:30-+6:30 Uhr\nIn Kooperation mit Begegnungszentrum Neumatt findet beim jeden Wetter statt.\nIndoor-Möglichkeiten.\nBitte Beachten: wenig Parkplätze vorhanden.\n 
URL:https://www.gyritraeff.ch/event/fruehlingsferientage-2-2/
END:VEVENT
BEGIN:VEVENT
DTSTART;TZID=Europe/Zurich:20260414T133000
DTEND;TZID=Europe/Zurich:20260414T163000
DTSTAMP:20260421T125830
CREATED:20260320T094229Z
LAST-MODIFIED:20260320T094229Z
UID:3998-1776173400-1776184200@www.gyritraeff.ch
SUMMARY:Frühlingsferientage
DESCRIPTION:Jubu\nAufbau Streetsoccer\nMithilfe beim Aufbau der Streetsoccer-Anlage mit anschliessendem Spiel Hallenbadvorplatz\nab 13:30-16:30 Uhr
URL:https://www.gyritraeff.ch/event/fruehlingsferientage-2/
END:VEVENT
BEGIN:VEVENT
DTSTART;TZID=Europe/Zurich:20260414T130000
DTEND;TZID=Europe/Zurich:20260414T170000
DTSTAMP:20260421T125830
CREATED:20260107T220204Z
LAST-MODIFIED:20260107T220209Z
UID:3805-1776171600-1776186000@www.gyritraeff.ch
SUMMARY:Elterncafe
DESCRIPTION:IMG_20250919_0001 \nFlyer
URL:https://www.gyritraeff.ch/event/elterncafe-3-2-2-2-3-2-2-2-2-2-2-2-2-2-2-2-2-2-2/
END:VEVENT
BEGIN:VEVENT
DTSTART;TZID=Europe/Zurich:20260413T200000
DTEND;TZID=Europe/Zurich:20260413T220000
DTSTAMP:20260421T125830
CREATED:20260107T125658Z
LAST-MODIFIED:20260107T125724Z
UID:3468-1776110400-1776117600@www.gyritraeff.ch
SUMMARY:Jassen - Freiwilligengruppe
DESCRIPTION:
URL:https://www.gyritraeff.ch/event/jassen-freiwilligengruppe-10-2-2-2-2-2-2-2-3-2-2-2-2/
END:VEVENT
BEGIN:VEVENT
DTSTART;TZID=Europe/Zurich:20260413T133000
DTEND;TZID=Europe/Zurich:20260413T163000
DTSTAMP:20260421T125830
CREATED:20260320T093803Z
LAST-MODIFIED:20260320T093803Z
UID:3996-1776087000-1776097800@www.gyritraeff.ch
SUMMARY:Frühlingsferientage
DESCRIPTION:Jubu\nVerschiedene Spielangebote im Park/Gyriträff ab 13.30 – 16:30 Uhr\nFindet beim jeden Wetter statt. Indoor-Möglichkeiten\n 
URL:https://www.gyritraeff.ch/event/fruehlingsferientage/
END:VEVENT
BEGIN:VEVENT
DTSTART;TZID=Europe/Zurich:20260409T143000
DTEND;TZID=Europe/Zurich:20260409T163000
DTSTAMP:20260421T125830
CREATED:20260107T214046Z
LAST-MODIFIED:20260107T214049Z
UID:3697-1775745000-1775752200@www.gyritraeff.ch
SUMMARY:Elterntreff Plus im Gyriträff
DESCRIPTION:Treffpunkt für Eltern und Kinder im Vorschulalter mit Sprachförderung. \n 
URL:https://www.gyritraeff.ch/event/elterntreff-plus-im-gyritraeff-2-2-2-2-2-2-2-3-2-2-2-2-2-2-2-2-2-2-2-2-2/
END:VEVENT
BEGIN:VEVENT
DTSTART;TZID=Europe/Zurich:20260407T130000
DTEND;TZID=Europe/Zurich:20260407T170000
DTSTAMP:20260421T125830
CREATED:20260107T220147Z
LAST-MODIFIED:20260107T220150Z
UID:3803-1775566800-1775581200@www.gyritraeff.ch
SUMMARY:Elterncafe
DESCRIPTION:IMG_20250919_0001 \nFlyer
URL:https://www.gyritraeff.ch/event/elterncafe-3-2-2-2-3-2-2-2-2-2-2-2-2-2-2-2-2-2/
END:VEVENT
BEGIN:VEVENT
DTSTART;TZID=Europe/Zurich:20260406T200000
DTEND;TZID=Europe/Zurich:20260406T220000
DTSTAMP:20260421T125830
CREATED:20260107T124628Z
LAST-MODIFIED:20260107T124652Z
UID:3458-1775505600-1775512800@www.gyritraeff.ch
SUMMARY:Jassen - Freiwilligengruppe
DESCRIPTION:
URL:https://www.gyritraeff.ch/event/jassen-freiwilligengruppe-10-2-2-2-2-2-2-2-3-2-2-2/
END:VEVENT
BEGIN:VEVENT
DTSTART;TZID=Europe/Zurich:20260406T200000
DTEND;TZID=Europe/Zurich:20260406T210000
DTSTAMP:20260421T125830
CREATED:20260303T055916Z
LAST-MODIFIED:20260303T055916Z
UID:3956-1775505600-1775509200@www.gyritraeff.ch
SUMMARY:Spieleabend
DESCRIPTION:Angebot von :Quartierverein Ämmebrügg\nFür Alle.
URL:https://www.gyritraeff.ch/event/spieleabend-2-2-2-2/
END:VEVENT
BEGIN:VEVENT
DTSTART;TZID=Europe/Zurich:20260402T143000
DTEND;TZID=Europe/Zurich:20260402T163000
DTSTAMP:20260421T125830
CREATED:20260107T214027Z
LAST-MODIFIED:20260107T214031Z
UID:3695-1775140200-1775147400@www.gyritraeff.ch
SUMMARY:Elterntreff Plus im Gyriträff
DESCRIPTION:Treffpunkt für Eltern und Kinder im Vorschulalter mit Sprachförderung. \n 
URL:https://www.gyritraeff.ch/event/elterntreff-plus-im-gyritraeff-2-2-2-2-2-2-2-3-2-2-2-2-2-2-2-2-2-2-2-2/
END:VEVENT
BEGIN:VEVENT
DTSTART;TZID=Europe/Zurich:20260401T103000
DTEND;TZID=Europe/Zurich:20260401T113000
DTSTAMP:20260421T125830
CREATED:20260301T221842Z
LAST-MODIFIED:20260301T221842Z
UID:3922-1775039400-1775043000@www.gyritraeff.ch
SUMMARY:Sportklasse für Frauen mit Kinderbetreung
DESCRIPTION:Ohne Anmeldung\nKosten: 5.00 pro Morgen\nKursleitung: Ada Skurti\, Shirin Sevo
URL:https://www.gyritraeff.ch/event/sportklasse-fuer-frauen-mit-kinderbetreung-2-2-2/
END:VEVENT
BEGIN:VEVENT
DTSTART;TZID=Europe/Zurich:20260331T130000
DTEND;TZID=Europe/Zurich:20260331T170000
DTSTAMP:20260421T125830
CREATED:20260107T220126Z
LAST-MODIFIED:20260107T220129Z
UID:3801-1774962000-1774976400@www.gyritraeff.ch
SUMMARY:Elterncafe
DESCRIPTION:IMG_20250919_0001 \nFlyer
URL:https://www.gyritraeff.ch/event/elterncafe-3-2-2-2-3-2-2-2-2-2-2-2-2-2-2-2-2/
END:VEVENT
BEGIN:VEVENT
DTSTART;TZID=Europe/Zurich:20260330T200000
DTEND;TZID=Europe/Zurich:20260330T220000
DTSTAMP:20260421T125830
CREATED:20260107T124521Z
LAST-MODIFIED:20260107T124545Z
UID:3454-1774900800-1774908000@www.gyritraeff.ch
SUMMARY:Jassen - Freiwilligengruppe
DESCRIPTION:
URL:https://www.gyritraeff.ch/event/jassen-freiwilligengruppe-10-2-2-2-2-2-2-2-3-2-2/
END:VEVENT
BEGIN:VEVENT
DTSTART;TZID=Europe/Zurich:20260330T200000
DTEND;TZID=Europe/Zurich:20260330T210000
DTSTAMP:20260421T125830
CREATED:20260303T055855Z
LAST-MODIFIED:20260303T055855Z
UID:3954-1774900800-1774904400@www.gyritraeff.ch
SUMMARY:Spieleabend
DESCRIPTION:Angebot von :Quartierverein Ämmebrügg\nFür Alle.
URL:https://www.gyritraeff.ch/event/spieleabend-2-2-2/
END:VEVENT
BEGIN:VEVENT
DTSTART;TZID=Europe/Zurich:20260330T140000
DTEND;TZID=Europe/Zurich:20260330T170000
DTSTAMP:20260421T125830
CREATED:20260107T221315Z
LAST-MODIFIED:20260107T221315Z
UID:3890-1774879200-1774890000@www.gyritraeff.ch
SUMMARY:Spielenachmittag für alle\, die gerne spielen
DESCRIPTION:IMG_20251031_0002 \nFlyer
URL:https://www.gyritraeff.ch/event/spielenachmittag-fuer-alle-die-gerne-spielen-2-2-2-2-2-2-2-2-2-2-2-2-2-2/
END:VEVENT
BEGIN:VEVENT
DTSTART;TZID=Europe/Zurich:20260329T103000
DTEND;TZID=Europe/Zurich:20260329T113000
DTSTAMP:20260421T125830
CREATED:20260301T222049Z
LAST-MODIFIED:20260301T222049Z
UID:3928-1774780200-1774783800@www.gyritraeff.ch
SUMMARY:Sportklasse für Frauen mit Kinderbetreung
DESCRIPTION:Ohne Anmeldung\nKosten: 5.00 pro Morgen\nKursleitung: Ada Skurti\, Shirin Sevo
URL:https://www.gyritraeff.ch/event/sportklasse-fuer-frauen-mit-kinderbetreung-2-2-2-2-2-2/
END:VEVENT
BEGIN:VEVENT
DTSTART;TZID=Europe/Zurich:20260327T140000
DTEND;TZID=Europe/Zurich:20260327T160000
DTSTAMP:20260421T125830
CREATED:20260107T210611Z
LAST-MODIFIED:20260107T210616Z
UID:3589-1774620000-1774627200@www.gyritraeff.ch
SUMMARY:JuBU-Spielnami
DESCRIPTION:Spielen\,Bewegen\,Spass haben\,Zeit mit Freund:innen verbringen. \nAb 6 Jahren \nMit gemeinsamen Zvieri. \nOrt Gyriträff & Gyripark \nZeit: 14.00-16.00
URL:https://www.gyritraeff.ch/event/jubu-spielnami-2-2-3-3-2-2-2-2-2-2-2-2-2/
END:VEVENT
BEGIN:VEVENT
DTSTART;TZID=Europe/Zurich:20260326T143000
DTEND;TZID=Europe/Zurich:20260326T163000
DTSTAMP:20260421T125830
CREATED:20260107T213954Z
LAST-MODIFIED:20260107T213958Z
UID:3693-1774535400-1774542600@www.gyritraeff.ch
SUMMARY:Elterntreff Plus im Gyriträff
DESCRIPTION:Treffpunkt für Eltern und Kinder im Vorschulalter mit Sprachförderung. \n 
URL:https://www.gyritraeff.ch/event/elterntreff-plus-im-gyritraeff-2-2-2-2-2-2-2-3-2-2-2-2-2-2-2-2-2-2-2/
END:VEVENT
BEGIN:VEVENT
DTSTART;TZID=Europe/Zurich:20260325T133000
DTEND;TZID=Europe/Zurich:20260325T153000
DTSTAMP:20260421T125830
CREATED:20260107T211512Z
LAST-MODIFIED:20260107T211517Z
UID:3613-1774445400-1774452600@www.gyritraeff.ch
SUMMARY:Hausaufgabentreff
DESCRIPTION: Für Alle Kinder der 1.-6. Klasse aus dem Quartier Aemmebrügg mit und ohne Hausaufgaben. \nMitbringen Hausaufgaben – Lesebuch. \nKontaktperson: Wally Achtermann\, Hausaufgabentreff 079 374 35 62
URL:https://www.gyritraeff.ch/event/hausaufgabentreff-8-3-2-2-2-3-2-2-2-2-2-2-2-2-2-2/
END:VEVENT
BEGIN:VEVENT
DTSTART;TZID=Europe/Zurich:20260325T103000
DTEND;TZID=Europe/Zurich:20260325T113000
DTSTAMP:20260421T125830
CREATED:20260301T221239Z
LAST-MODIFIED:20260301T221713Z
UID:3912-1774434600-1774438200@www.gyritraeff.ch
SUMMARY:Sportklasse für Frauen mit Kinderbetreung
DESCRIPTION:Ohne Anmeldung\nKosten: 5.00 pro Morgen\nKursleitung: Ada Skurti\, Shirin Sevo
URL:https://www.gyritraeff.ch/event/sportklasse-fuer-frauen-mit-kinderbetreung-2/
END:VEVENT
BEGIN:VEVENT
DTSTART;TZID=Europe/Zurich:20260324T130000
DTEND;TZID=Europe/Zurich:20260324T170000
DTSTAMP:20260421T125830
CREATED:20260107T220110Z
LAST-MODIFIED:20260107T220114Z
UID:3799-1774357200-1774371600@www.gyritraeff.ch
SUMMARY:Elterncafe
DESCRIPTION:IMG_20250919_0001 \nFlyer
URL:https://www.gyritraeff.ch/event/elterncafe-3-2-2-2-3-2-2-2-2-2-2-2-2-2-2-2/
END:VEVENT
BEGIN:VEVENT
DTSTART;TZID=Europe/Zurich:20260323T200000
DTEND;TZID=Europe/Zurich:20260323T220000
DTSTAMP:20260421T125830
CREATED:20260107T124208Z
LAST-MODIFIED:20260107T124453Z
UID:3444-1774296000-1774303200@www.gyritraeff.ch
SUMMARY:Jassen - Freiwilligengruppe
DESCRIPTION:
URL:https://www.gyritraeff.ch/event/jassen-freiwilligengruppe-10-2-2-2-2-2-2-2-3-2/
END:VEVENT
BEGIN:VEVENT
DTSTART;TZID=Europe/Zurich:20260323T200000
DTEND;TZID=Europe/Zurich:20260323T210000
DTSTAMP:20260421T125830
CREATED:20260303T055839Z
LAST-MODIFIED:20260303T055839Z
UID:3952-1774296000-1774299600@www.gyritraeff.ch
SUMMARY:Spieleabend
DESCRIPTION:Angebot von :Quartierverein Ämmebrügg\nFür Alle.
URL:https://www.gyritraeff.ch/event/spieleabend-2-2/
END:VEVENT
BEGIN:VEVENT
DTSTART;TZID=Europe/Zurich:20260323T140000
DTEND;TZID=Europe/Zurich:20260323T170000
DTSTAMP:20260421T125830
CREATED:20260107T221258Z
LAST-MODIFIED:20260107T221302Z
UID:3885-1774274400-1774285200@www.gyritraeff.ch
SUMMARY:Spielenachmittag für alle\, die gerne spielen
DESCRIPTION:IMG_20251031_0002 \nFlyer
URL:https://www.gyritraeff.ch/event/spielenachmittag-fuer-alle-die-gerne-spielen-2-2-2-2-2-2-2-2-2-2-2-2-2/
END:VEVENT
BEGIN:VEVENT
DTSTART;TZID=Europe/Zurich:20260320T140000
DTEND;TZID=Europe/Zurich:20260320T160000
DTSTAMP:20260421T125830
CREATED:20260107T210554Z
LAST-MODIFIED:20260107T210558Z
UID:3587-1774015200-1774022400@www.gyritraeff.ch
SUMMARY:JuBU-Spielnami
DESCRIPTION:Spielen\,Bewegen\,Spass haben\,Zeit mit Freund:innen verbringen. \nAb 6 Jahren \nMit gemeinsamen Zvieri. \nOrt Gyriträff & Gyripark \nZeit: 14.00-16.00
URL:https://www.gyritraeff.ch/event/jubu-spielnami-2-2-3-3-2-2-2-2-2-2-2-2/
END:VEVENT
BEGIN:VEVENT
DTSTART;TZID=Europe/Zurich:20260319T143000
DTEND;TZID=Europe/Zurich:20260319T163000
DTSTAMP:20260421T125830
CREATED:20260107T213937Z
LAST-MODIFIED:20260107T213940Z
UID:3691-1773930600-1773937800@www.gyritraeff.ch
SUMMARY:Elterntreff Plus im Gyriträff
DESCRIPTION:Treffpunkt für Eltern und Kinder im Vorschulalter mit Sprachförderung. \n 
URL:https://www.gyritraeff.ch/event/elterntreff-plus-im-gyritraeff-2-2-2-2-2-2-2-3-2-2-2-2-2-2-2-2-2-2/
END:VEVENT
BEGIN:VEVENT
DTSTART;TZID=Europe/Zurich:20260318T133000
DTEND;TZID=Europe/Zurich:20260318T153000
DTSTAMP:20260421T125830
CREATED:20260107T211428Z
LAST-MODIFIED:20260107T211432Z
UID:3611-1773840600-1773847800@www.gyritraeff.ch
SUMMARY:Hausaufgabentreff
DESCRIPTION: Für Alle Kinder der 1.-6. Klasse aus dem Quartier Aemmebrügg mit und ohne Hausaufgaben. \nMitbringen Hausaufgaben – Lesebuch. \nKontaktperson: Wally Achtermann\, Hausaufgabentreff 079 374 35 62
URL:https://www.gyritraeff.ch/event/hausaufgabentreff-8-3-2-2-2-3-2-2-2-2-2-2-2-2-2/
END:VEVENT
END:VCALENDAR