BEGIN:VCALENDAR
VERSION:2.0
PRODID:-//Quartierzentrum Gyriträff - ECPv6.0.6.2//NONSGML v1.0//EN
CALSCALE:GREGORIAN
METHOD:PUBLISH
X-ORIGINAL-URL:https://www.gyritraeff.ch
X-WR-CALDESC:Veranstaltungen für Quartierzentrum Gyriträff
REFRESH-INTERVAL;VALUE=DURATION:PT1H
X-Robots-Tag:noindex
X-PUBLISHED-TTL:PT1H
BEGIN:VTIMEZONE
TZID:Europe/Zurich
BEGIN:DAYLIGHT
TZOFFSETFROM:+0100
TZOFFSETTO:+0200
TZNAME:CEST
DTSTART:20260329T010000
END:DAYLIGHT
BEGIN:STANDARD
TZOFFSETFROM:+0200
TZOFFSETTO:+0100
TZNAME:CET
DTSTART:20261025T010000
END:STANDARD
END:VTIMEZONE
BEGIN:VEVENT
DTSTART;TZID=Europe/Zurich:20260504T200000
DTEND;TZID=Europe/Zurich:20260504T220000
DTSTAMP:20260421T125745
CREATED:20260107T125757Z
LAST-MODIFIED:20260107T200429Z
UID:3471-1777924800-1777932000@www.gyritraeff.ch
SUMMARY:Jassen - Freiwilligengruppe
DESCRIPTION:
URL:https://www.gyritraeff.ch/event/jassen-freiwilligengruppe-10-2-2-2-2-2-2-2-3-2-2-2-3/
END:VEVENT
BEGIN:VEVENT
DTSTART;TZID=Europe/Zurich:20260505T130000
DTEND;TZID=Europe/Zurich:20260505T170000
DTSTAMP:20260421T125745
CREATED:20260107T220506Z
LAST-MODIFIED:20260107T220509Z
UID:3811-1777986000-1778000400@www.gyritraeff.ch
SUMMARY:Elterncafe
DESCRIPTION:IMG_20250919_0001 \nFlyer
URL:https://www.gyritraeff.ch/event/elterncafe-3-2-2-2-3-2-2-2-2-2-2-2-2-2-2-2-2-2-2-2-2-2/
END:VEVENT
BEGIN:VEVENT
DTSTART;TZID=Europe/Zurich:20260506T103000
DTEND;TZID=Europe/Zurich:20260506T113000
DTSTAMP:20260421T125745
CREATED:20260301T222120Z
LAST-MODIFIED:20260301T222120Z
UID:3930-1778063400-1778067000@www.gyritraeff.ch
SUMMARY:Sportklasse für Frauen mit Kinderbetreung
DESCRIPTION:Ohne Anmeldung\nKosten: 5.00 pro Morgen\nKursleitung: Ada Skurti\, Shirin Sevo
URL:https://www.gyritraeff.ch/event/sportklasse-fuer-frauen-mit-kinderbetreung-2-2-2-2-2-2-2/
END:VEVENT
BEGIN:VEVENT
DTSTART;TZID=Europe/Zurich:20260506T133000
DTEND;TZID=Europe/Zurich:20260506T153000
DTSTAMP:20260421T125745
CREATED:20260107T211700Z
LAST-MODIFIED:20260107T211704Z
UID:3619-1778074200-1778081400@www.gyritraeff.ch
SUMMARY:Hausaufgabentreff
DESCRIPTION: Für Alle Kinder der 1.-6. Klasse aus dem Quartier Aemmebrügg mit und ohne Hausaufgaben. \nMitbringen Hausaufgaben – Lesebuch. \nKontaktperson: Wally Achtermann\, Hausaufgabentreff 079 374 35 62
URL:https://www.gyritraeff.ch/event/hausaufgabentreff-8-3-2-2-2-3-2-2-2-2-2-2-2-2-2-2-2-2-2/
END:VEVENT
BEGIN:VEVENT
DTSTART;TZID=Europe/Zurich:20260506T160000
DTEND;TZID=Europe/Zurich:20260506T170000
DTSTAMP:20260421T125745
CREATED:20260310T215320Z
LAST-MODIFIED:20260310T215320Z
UID:3975-1778083200-1778086800@www.gyritraeff.ch
SUMMARY:Geschichtestunde im Gyriträff
DESCRIPTION:Anbieter: Quartierveren Aemmebrügg
URL:https://www.gyritraeff.ch/event/geschichtestunde-im-gyritraeff-2/
END:VEVENT
BEGIN:VEVENT
DTSTART;TZID=Europe/Zurich:20260507T143000
DTEND;TZID=Europe/Zurich:20260507T163000
DTSTAMP:20260421T125745
CREATED:20260107T214200Z
LAST-MODIFIED:20260107T214204Z
UID:3705-1778164200-1778171400@www.gyritraeff.ch
SUMMARY:Elterntreff Plus im Gyriträff
DESCRIPTION:Treffpunkt für Eltern und Kinder im Vorschulalter mit Sprachförderung. \n 
URL:https://www.gyritraeff.ch/event/elterntreff-plus-im-gyritraeff-2-2-2-2-2-2-2-3-2-2-2-2-2-2-2-2-2-2-2-2-2-2-2-2-2/
END:VEVENT
BEGIN:VEVENT
DTSTART;TZID=Europe/Zurich:20260511T200000
DTEND;TZID=Europe/Zurich:20260511T220000
DTSTAMP:20260421T125745
CREATED:20260107T195825Z
LAST-MODIFIED:20260107T200731Z
UID:3483-1778529600-1778536800@www.gyritraeff.ch
SUMMARY:Jassen - Freiwilligengruppe
DESCRIPTION:
URL:https://www.gyritraeff.ch/event/jassen-freiwilligengruppe-10-2-2-2-2-2-2-2-3-2-2-2-3-2/
END:VEVENT
BEGIN:VEVENT
DTSTART;TZID=Europe/Zurich:20260512T130000
DTEND;TZID=Europe/Zurich:20260512T170000
DTSTAMP:20260421T125745
CREATED:20260107T220524Z
LAST-MODIFIED:20260107T220527Z
UID:3813-1778590800-1778605200@www.gyritraeff.ch
SUMMARY:Elterncafe
DESCRIPTION:IMG_20250919_0001 \nFlyer
URL:https://www.gyritraeff.ch/event/elterncafe-3-2-2-2-3-2-2-2-2-2-2-2-2-2-2-2-2-2-2-2-2-2-2/
END:VEVENT
BEGIN:VEVENT
DTSTART;TZID=Europe/Zurich:20260513T103000
DTEND;TZID=Europe/Zurich:20260513T113000
DTSTAMP:20260421T125745
CREATED:20260301T222137Z
LAST-MODIFIED:20260301T222137Z
UID:3932-1778668200-1778671800@www.gyritraeff.ch
SUMMARY:Sportklasse für Frauen mit Kinderbetreung
DESCRIPTION:Ohne Anmeldung\nKosten: 5.00 pro Morgen\nKursleitung: Ada Skurti\, Shirin Sevo
URL:https://www.gyritraeff.ch/event/sportklasse-fuer-frauen-mit-kinderbetreung-2-2-2-2-2-2-2-2/
END:VEVENT
BEGIN:VEVENT
DTSTART;TZID=Europe/Zurich:20260513T133000
DTEND;TZID=Europe/Zurich:20260513T153000
DTSTAMP:20260421T125745
CREATED:20260107T211716Z
LAST-MODIFIED:20260107T211721Z
UID:3621-1778679000-1778686200@www.gyritraeff.ch
SUMMARY:Hausaufgabentreff
DESCRIPTION: Für Alle Kinder der 1.-6. Klasse aus dem Quartier Aemmebrügg mit und ohne Hausaufgaben. \nMitbringen Hausaufgaben – Lesebuch. \nKontaktperson: Wally Achtermann\, Hausaufgabentreff 079 374 35 62
URL:https://www.gyritraeff.ch/event/hausaufgabentreff-8-3-2-2-2-3-2-2-2-2-2-2-2-2-2-2-2-2-2-2/
END:VEVENT
BEGIN:VEVENT
DTSTART;TZID=Europe/Zurich:20260513T160000
DTEND;TZID=Europe/Zurich:20260513T170000
DTSTAMP:20260421T125745
CREATED:20260310T215341Z
LAST-MODIFIED:20260310T215341Z
UID:3977-1778688000-1778691600@www.gyritraeff.ch
SUMMARY:Geschichtestunde im Gyriträff
DESCRIPTION:Anbieter: Quartierveren Aemmebrügg
URL:https://www.gyritraeff.ch/event/geschichtestunde-im-gyritraeff-2-2/
END:VEVENT
BEGIN:VEVENT
DTSTART;TZID=Europe/Zurich:20260514T143000
DTEND;TZID=Europe/Zurich:20260514T163000
DTSTAMP:20260421T125745
CREATED:20260107T214216Z
LAST-MODIFIED:20260107T214220Z
UID:3707-1778769000-1778776200@www.gyritraeff.ch
SUMMARY:Elterntreff Plus im Gyriträff
DESCRIPTION:Treffpunkt für Eltern und Kinder im Vorschulalter mit Sprachförderung. \n 
URL:https://www.gyritraeff.ch/event/elterntreff-plus-im-gyritraeff-2-2-2-2-2-2-2-3-2-2-2-2-2-2-2-2-2-2-2-2-2-2-2-2-2-2/
END:VEVENT
BEGIN:VEVENT
DTSTART;TZID=Europe/Zurich:20260518T200000
DTEND;TZID=Europe/Zurich:20260518T220000
DTSTAMP:20260421T125745
CREATED:20260107T200008Z
LAST-MODIFIED:20260107T200951Z
UID:3486-1779134400-1779141600@www.gyritraeff.ch
SUMMARY:Jassen - Freiwilligengruppe
DESCRIPTION:
URL:https://www.gyritraeff.ch/event/jassen-freiwilligengruppe-10-2-2-2-2-2-2-2-3-2-2-2-3-3/
END:VEVENT
BEGIN:VEVENT
DTSTART;TZID=Europe/Zurich:20260519T130000
DTEND;TZID=Europe/Zurich:20260519T170000
DTSTAMP:20260421T125745
CREATED:20260107T220540Z
LAST-MODIFIED:20260107T220543Z
UID:3815-1779195600-1779210000@www.gyritraeff.ch
SUMMARY:Elterncafe
DESCRIPTION:IMG_20250919_0001 \nFlyer
URL:https://www.gyritraeff.ch/event/elterncafe-3-2-2-2-3-2-2-2-2-2-2-2-2-2-2-2-2-2-2-2-2-2-2-2/
END:VEVENT
BEGIN:VEVENT
DTSTART;TZID=Europe/Zurich:20260520T103000
DTEND;TZID=Europe/Zurich:20260520T113000
DTSTAMP:20260421T125745
CREATED:20260301T222149Z
LAST-MODIFIED:20260301T222149Z
UID:3934-1779273000-1779276600@www.gyritraeff.ch
SUMMARY:Sportklasse für Frauen mit Kinderbetreung
DESCRIPTION:Ohne Anmeldung\nKosten: 5.00 pro Morgen\nKursleitung: Ada Skurti\, Shirin Sevo
URL:https://www.gyritraeff.ch/event/sportklasse-fuer-frauen-mit-kinderbetreung-2-2-2-2-2-2-2-2-2/
END:VEVENT
BEGIN:VEVENT
DTSTART;TZID=Europe/Zurich:20260520T133000
DTEND;TZID=Europe/Zurich:20260520T153000
DTSTAMP:20260421T125745
CREATED:20260107T211731Z
LAST-MODIFIED:20260107T211735Z
UID:3623-1779283800-1779291000@www.gyritraeff.ch
SUMMARY:Hausaufgabentreff
DESCRIPTION: Für Alle Kinder der 1.-6. Klasse aus dem Quartier Aemmebrügg mit und ohne Hausaufgaben. \nMitbringen Hausaufgaben – Lesebuch. \nKontaktperson: Wally Achtermann\, Hausaufgabentreff 079 374 35 62
URL:https://www.gyritraeff.ch/event/hausaufgabentreff-8-3-2-2-2-3-2-2-2-2-2-2-2-2-2-2-2-2-2-2-2/
END:VEVENT
BEGIN:VEVENT
DTSTART;TZID=Europe/Zurich:20260520T160000
DTEND;TZID=Europe/Zurich:20260520T170000
DTSTAMP:20260421T125745
CREATED:20260310T215357Z
LAST-MODIFIED:20260310T215357Z
UID:3979-1779292800-1779296400@www.gyritraeff.ch
SUMMARY:Geschichtestunde im Gyriträff
DESCRIPTION:Anbieter: Quartierveren Aemmebrügg
URL:https://www.gyritraeff.ch/event/geschichtestunde-im-gyritraeff-2-2-2/
END:VEVENT
BEGIN:VEVENT
DTSTART;TZID=Europe/Zurich:20260521T143000
DTEND;TZID=Europe/Zurich:20260521T163000
DTSTAMP:20260421T125745
CREATED:20260107T214234Z
LAST-MODIFIED:20260107T214237Z
UID:3709-1779373800-1779381000@www.gyritraeff.ch
SUMMARY:Elterntreff Plus im Gyriträff
DESCRIPTION:Treffpunkt für Eltern und Kinder im Vorschulalter mit Sprachförderung. \n 
URL:https://www.gyritraeff.ch/event/elterntreff-plus-im-gyritraeff-2-2-2-2-2-2-2-3-2-2-2-2-2-2-2-2-2-2-2-2-2-2-2-2-2-2-2/
END:VEVENT
BEGIN:VEVENT
DTSTART;TZID=Europe/Zurich:20260526T130000
DTEND;TZID=Europe/Zurich:20260526T170000
DTSTAMP:20260421T125745
CREATED:20260107T220554Z
LAST-MODIFIED:20260107T220557Z
UID:3817-1779800400-1779814800@www.gyritraeff.ch
SUMMARY:Elterncafe
DESCRIPTION:IMG_20250919_0001 \nFlyer
URL:https://www.gyritraeff.ch/event/elterncafe-3-2-2-2-3-2-2-2-2-2-2-2-2-2-2-2-2-2-2-2-2-2-2-2-2/
END:VEVENT
BEGIN:VEVENT
DTSTART;TZID=Europe/Zurich:20260527T103000
DTEND;TZID=Europe/Zurich:20260527T113000
DTSTAMP:20260421T125745
CREATED:20260301T222204Z
LAST-MODIFIED:20260301T222204Z
UID:3936-1779877800-1779881400@www.gyritraeff.ch
SUMMARY:Sportklasse für Frauen mit Kinderbetreung
DESCRIPTION:Ohne Anmeldung\nKosten: 5.00 pro Morgen\nKursleitung: Ada Skurti\, Shirin Sevo
URL:https://www.gyritraeff.ch/event/sportklasse-fuer-frauen-mit-kinderbetreung-2-2-2-2-2-2-2-2-2-2/
END:VEVENT
BEGIN:VEVENT
DTSTART;TZID=Europe/Zurich:20260527T133000
DTEND;TZID=Europe/Zurich:20260527T153000
DTSTAMP:20260421T125745
CREATED:20260107T211750Z
LAST-MODIFIED:20260107T211755Z
UID:3625-1779888600-1779895800@www.gyritraeff.ch
SUMMARY:Hausaufgabentreff
DESCRIPTION: Für Alle Kinder der 1.-6. Klasse aus dem Quartier Aemmebrügg mit und ohne Hausaufgaben. \nMitbringen Hausaufgaben – Lesebuch. \nKontaktperson: Wally Achtermann\, Hausaufgabentreff 079 374 35 62
URL:https://www.gyritraeff.ch/event/hausaufgabentreff-8-3-2-2-2-3-2-2-2-2-2-2-2-2-2-2-2-2-2-2-2-2/
END:VEVENT
BEGIN:VEVENT
DTSTART;TZID=Europe/Zurich:20260527T160000
DTEND;TZID=Europe/Zurich:20260527T170000
DTSTAMP:20260421T125745
CREATED:20260310T215413Z
LAST-MODIFIED:20260310T215413Z
UID:3981-1779897600-1779901200@www.gyritraeff.ch
SUMMARY:Geschichtestunde im Gyriträff
DESCRIPTION:Anbieter: Quartierveren Aemmebrügg
URL:https://www.gyritraeff.ch/event/geschichtestunde-im-gyritraeff-2-2-2-2/
END:VEVENT
BEGIN:VEVENT
DTSTART;TZID=Europe/Zurich:20260528T143000
DTEND;TZID=Europe/Zurich:20260528T163000
DTSTAMP:20260421T125745
CREATED:20260107T214250Z
LAST-MODIFIED:20260107T214253Z
UID:3711-1779978600-1779985800@www.gyritraeff.ch
SUMMARY:Elterntreff Plus im Gyriträff
DESCRIPTION:Treffpunkt für Eltern und Kinder im Vorschulalter mit Sprachförderung. \n 
URL:https://www.gyritraeff.ch/event/elterntreff-plus-im-gyritraeff-2-2-2-2-2-2-2-3-2-2-2-2-2-2-2-2-2-2-2-2-2-2-2-2-2-2-2-2/
END:VEVENT
BEGIN:VEVENT
DTSTART;TZID=Europe/Zurich:20260601T200000
DTEND;TZID=Europe/Zurich:20260601T210000
DTSTAMP:20260421T125745
CREATED:20260331T210935Z
LAST-MODIFIED:20260331T210935Z
UID:4016-1780344000-1780347600@www.gyritraeff.ch
SUMMARY:Spieleabend
DESCRIPTION:Angebot von :Quartierverein Ämmebrügg\nFür Alle.
URL:https://www.gyritraeff.ch/event/spieleabend-2-2-2-2-2-2-2-2-2-2-2/
END:VEVENT
BEGIN:VEVENT
DTSTART;TZID=Europe/Zurich:20260601T200000
DTEND;TZID=Europe/Zurich:20260601T220000
DTSTAMP:20260421T125745
CREATED:20260107T201026Z
LAST-MODIFIED:20260107T201032Z
UID:3502-1780344000-1780351200@www.gyritraeff.ch
SUMMARY:Jassen - Freiwilligengruppe
DESCRIPTION:
URL:https://www.gyritraeff.ch/event/jassen-freiwilligengruppe-10-2-2-2-2-2-2-2-3-2-2-2-3-3-2/
END:VEVENT
BEGIN:VEVENT
DTSTART;TZID=Europe/Zurich:20260602T130000
DTEND;TZID=Europe/Zurich:20260602T170000
DTSTAMP:20260421T125745
CREATED:20260107T220612Z
LAST-MODIFIED:20260107T220615Z
UID:3819-1780405200-1780419600@www.gyritraeff.ch
SUMMARY:Elterncafe
DESCRIPTION:IMG_20250919_0001 \nFlyer
URL:https://www.gyritraeff.ch/event/elterncafe-3-2-2-2-3-2-2-2-2-2-2-2-2-2-2-2-2-2-2-2-2-2-2-2-2-2/
END:VEVENT
BEGIN:VEVENT
DTSTART;TZID=Europe/Zurich:20260603T103000
DTEND;TZID=Europe/Zurich:20260603T113000
DTSTAMP:20260421T125745
CREATED:20260301T222217Z
LAST-MODIFIED:20260301T222217Z
UID:3938-1780482600-1780486200@www.gyritraeff.ch
SUMMARY:Sportklasse für Frauen mit Kinderbetreung
DESCRIPTION:Ohne Anmeldung\nKosten: 5.00 pro Morgen\nKursleitung: Ada Skurti\, Shirin Sevo
URL:https://www.gyritraeff.ch/event/sportklasse-fuer-frauen-mit-kinderbetreung-2-2-2-2-2-2-2-2-2-2-2/
END:VEVENT
BEGIN:VEVENT
DTSTART;TZID=Europe/Zurich:20260603T133000
DTEND;TZID=Europe/Zurich:20260603T153000
DTSTAMP:20260421T125745
CREATED:20260107T211841Z
LAST-MODIFIED:20260107T211844Z
UID:3627-1780493400-1780500600@www.gyritraeff.ch
SUMMARY:Hausaufgabentreff
DESCRIPTION: Für Alle Kinder der 1.-6. Klasse aus dem Quartier Aemmebrügg mit und ohne Hausaufgaben. \nMitbringen Hausaufgaben – Lesebuch. \nKontaktperson: Wally Achtermann\, Hausaufgabentreff 079 374 35 62
URL:https://www.gyritraeff.ch/event/hausaufgabentreff-8-3-2-2-2-3-2-2-2-2-2-2-2-2-2-2-2-2-2-2-2-2-2/
END:VEVENT
BEGIN:VEVENT
DTSTART;TZID=Europe/Zurich:20260603T160000
DTEND;TZID=Europe/Zurich:20260603T170000
DTSTAMP:20260421T125745
CREATED:20260310T215435Z
LAST-MODIFIED:20260310T215435Z
UID:3983-1780502400-1780506000@www.gyritraeff.ch
SUMMARY:Geschichtestunde im Gyriträff
DESCRIPTION:Anbieter: Quartierveren Aemmebrügg
URL:https://www.gyritraeff.ch/event/geschichtestunde-im-gyritraeff-2-2-2-2-2/
END:VEVENT
BEGIN:VEVENT
DTSTART;TZID=Europe/Zurich:20260604T143000
DTEND;TZID=Europe/Zurich:20260604T163000
DTSTAMP:20260421T125745
CREATED:20260107T214309Z
LAST-MODIFIED:20260107T214312Z
UID:3713-1780583400-1780590600@www.gyritraeff.ch
SUMMARY:Elterntreff Plus im Gyriträff
DESCRIPTION:Treffpunkt für Eltern und Kinder im Vorschulalter mit Sprachförderung. \n 
URL:https://www.gyritraeff.ch/event/elterntreff-plus-im-gyritraeff-2-2-2-2-2-2-2-3-2-2-2-2-2-2-2-2-2-2-2-2-2-2-2-2-2-2-2-2-2/
END:VEVENT
END:VCALENDAR