BEGIN:VCALENDAR
VERSION:2.0
PRODID:-//Quartierzentrum Gyriträff - ECPv6.0.6.2//NONSGML v1.0//EN
CALSCALE:GREGORIAN
METHOD:PUBLISH
X-WR-CALNAME:Quartierzentrum Gyriträff
X-ORIGINAL-URL:https://www.gyritraeff.ch
X-WR-CALDESC:Veranstaltungen für Quartierzentrum Gyriträff
REFRESH-INTERVAL;VALUE=DURATION:PT1H
X-Robots-Tag:noindex
X-PUBLISHED-TTL:PT1H
BEGIN:VTIMEZONE
TZID:Europe/Zurich
BEGIN:DAYLIGHT
TZOFFSETFROM:+0100
TZOFFSETTO:+0200
TZNAME:CEST
DTSTART:20260329T010000
END:DAYLIGHT
BEGIN:STANDARD
TZOFFSETFROM:+0200
TZOFFSETTO:+0100
TZNAME:CET
DTSTART:20261025T010000
END:STANDARD
END:VTIMEZONE
BEGIN:VEVENT
DTSTART;TZID=Europe/Zurich:20260616T130000
DTEND;TZID=Europe/Zurich:20260616T170000
DTSTAMP:20260421T173658
CREATED:20260107T220642Z
LAST-MODIFIED:20260107T220645Z
UID:3823-1781614800-1781629200@www.gyritraeff.ch
SUMMARY:Elterncafe
DESCRIPTION:IMG_20250919_0001 \nFlyer
URL:https://www.gyritraeff.ch/event/elterncafe-3-2-2-2-3-2-2-2-2-2-2-2-2-2-2-2-2-2-2-2-2-2-2-2-2-2-2-2/
END:VEVENT
BEGIN:VEVENT
DTSTART;TZID=Europe/Zurich:20260617T103000
DTEND;TZID=Europe/Zurich:20260617T113000
DTSTAMP:20260421T173658
CREATED:20260301T222245Z
LAST-MODIFIED:20260301T222245Z
UID:3942-1781692200-1781695800@www.gyritraeff.ch
SUMMARY:Sportklasse für Frauen mit Kinderbetreung
DESCRIPTION:Ohne Anmeldung\nKosten: 5.00 pro Morgen\nKursleitung: Ada Skurti\, Shirin Sevo
URL:https://www.gyritraeff.ch/event/sportklasse-fuer-frauen-mit-kinderbetreung-2-2-2-2-2-2-2-2-2-2-2-2-2/
END:VEVENT
BEGIN:VEVENT
DTSTART;TZID=Europe/Zurich:20260617T133000
DTEND;TZID=Europe/Zurich:20260617T153000
DTSTAMP:20260421T173658
CREATED:20260107T211914Z
LAST-MODIFIED:20260107T211918Z
UID:3631-1781703000-1781710200@www.gyritraeff.ch
SUMMARY:Hausaufgabentreff
DESCRIPTION: Für Alle Kinder der 1.-6. Klasse aus dem Quartier Aemmebrügg mit und ohne Hausaufgaben. \nMitbringen Hausaufgaben – Lesebuch. \nKontaktperson: Wally Achtermann\, Hausaufgabentreff 079 374 35 62
URL:https://www.gyritraeff.ch/event/hausaufgabentreff-8-3-2-2-2-3-2-2-2-2-2-2-2-2-2-2-2-2-2-2-2-2-2-2-2/
END:VEVENT
BEGIN:VEVENT
DTSTART;TZID=Europe/Zurich:20260617T160000
DTEND;TZID=Europe/Zurich:20260617T170000
DTSTAMP:20260421T173658
CREATED:20260310T215514Z
LAST-MODIFIED:20260310T215514Z
UID:3987-1781712000-1781715600@www.gyritraeff.ch
SUMMARY:Geschichtestunde im Gyriträff
DESCRIPTION:Anbieter: Quartierveren Aemmebrügg
URL:https://www.gyritraeff.ch/event/geschichtestunde-im-gyritraeff-2-2-2-2-2-2-2/
END:VEVENT
BEGIN:VEVENT
DTSTART;TZID=Europe/Zurich:20260618T143000
DTEND;TZID=Europe/Zurich:20260618T163000
DTSTAMP:20260421T173658
CREATED:20260107T214341Z
LAST-MODIFIED:20260107T214345Z
UID:3717-1781793000-1781800200@www.gyritraeff.ch
SUMMARY:Elterntreff Plus im Gyriträff
DESCRIPTION:Treffpunkt für Eltern und Kinder im Vorschulalter mit Sprachförderung. \n 
URL:https://www.gyritraeff.ch/event/elterntreff-plus-im-gyritraeff-2-2-2-2-2-2-2-3-2-2-2-2-2-2-2-2-2-2-2-2-2-2-2-2-2-2-2-2-2-2-2/
END:VEVENT
BEGIN:VEVENT
DTSTART;TZID=Europe/Zurich:20260622T200000
DTEND;TZID=Europe/Zurich:20260622T220000
DTSTAMP:20260421T173658
CREATED:20260107T201141Z
LAST-MODIFIED:20260107T201144Z
UID:3508-1782158400-1782165600@www.gyritraeff.ch
SUMMARY:Jassen - Freiwilligengruppe
DESCRIPTION:
URL:https://www.gyritraeff.ch/event/jassen-freiwilligengruppe-10-2-2-2-2-2-2-2-3-2-2-2-3-3-2-2-2-2/
END:VEVENT
BEGIN:VEVENT
DTSTART;TZID=Europe/Zurich:20260623T130000
DTEND;TZID=Europe/Zurich:20260623T170000
DTSTAMP:20260421T173658
CREATED:20260107T220657Z
LAST-MODIFIED:20260107T220700Z
UID:3825-1782219600-1782234000@www.gyritraeff.ch
SUMMARY:Elterncafe
DESCRIPTION:IMG_20250919_0001 \nFlyer
URL:https://www.gyritraeff.ch/event/elterncafe-3-2-2-2-3-2-2-2-2-2-2-2-2-2-2-2-2-2-2-2-2-2-2-2-2-2-2-2-2/
END:VEVENT
BEGIN:VEVENT
DTSTART;TZID=Europe/Zurich:20260624T103000
DTEND;TZID=Europe/Zurich:20260624T113000
DTSTAMP:20260421T173658
CREATED:20260301T222303Z
LAST-MODIFIED:20260301T222303Z
UID:3944-1782297000-1782300600@www.gyritraeff.ch
SUMMARY:Sportklasse für Frauen mit Kinderbetreung
DESCRIPTION:Ohne Anmeldung\nKosten: 5.00 pro Morgen\nKursleitung: Ada Skurti\, Shirin Sevo
URL:https://www.gyritraeff.ch/event/sportklasse-fuer-frauen-mit-kinderbetreung-2-2-2-2-2-2-2-2-2-2-2-2-2-2/
END:VEVENT
BEGIN:VEVENT
DTSTART;TZID=Europe/Zurich:20260624T133000
DTEND;TZID=Europe/Zurich:20260624T153000
DTSTAMP:20260421T173658
CREATED:20260107T211930Z
LAST-MODIFIED:20260107T211936Z
UID:3633-1782307800-1782315000@www.gyritraeff.ch
SUMMARY:Hausaufgabentreff
DESCRIPTION: Für Alle Kinder der 1.-6. Klasse aus dem Quartier Aemmebrügg mit und ohne Hausaufgaben. \nMitbringen Hausaufgaben – Lesebuch. \nKontaktperson: Wally Achtermann\, Hausaufgabentreff 079 374 35 62
URL:https://www.gyritraeff.ch/event/hausaufgabentreff-8-3-2-2-2-3-2-2-2-2-2-2-2-2-2-2-2-2-2-2-2-2-2-2-2-2/
END:VEVENT
BEGIN:VEVENT
DTSTART;TZID=Europe/Zurich:20260624T160000
DTEND;TZID=Europe/Zurich:20260624T170000
DTSTAMP:20260421T173658
CREATED:20260310T215530Z
LAST-MODIFIED:20260310T215530Z
UID:3989-1782316800-1782320400@www.gyritraeff.ch
SUMMARY:Geschichtestunde im Gyriträff
DESCRIPTION:Anbieter: Quartierveren Aemmebrügg
URL:https://www.gyritraeff.ch/event/geschichtestunde-im-gyritraeff-2-2-2-2-2-2-2-2/
END:VEVENT
BEGIN:VEVENT
DTSTART;TZID=Europe/Zurich:20260625T143000
DTEND;TZID=Europe/Zurich:20260625T163000
DTSTAMP:20260421T173658
CREATED:20260107T214357Z
LAST-MODIFIED:20260107T214401Z
UID:3719-1782397800-1782405000@www.gyritraeff.ch
SUMMARY:Elterntreff Plus im Gyriträff
DESCRIPTION:Treffpunkt für Eltern und Kinder im Vorschulalter mit Sprachförderung. \n 
URL:https://www.gyritraeff.ch/event/elterntreff-plus-im-gyritraeff-2-2-2-2-2-2-2-3-2-2-2-2-2-2-2-2-2-2-2-2-2-2-2-2-2-2-2-2-2-2-2-2/
END:VEVENT
BEGIN:VEVENT
DTSTART;TZID=Europe/Zurich:20260629T200000
DTEND;TZID=Europe/Zurich:20260629T220000
DTSTAMP:20260421T173658
CREATED:20260107T201201Z
LAST-MODIFIED:20260107T201205Z
UID:3510-1782763200-1782770400@www.gyritraeff.ch
SUMMARY:Jassen - Freiwilligengruppe
DESCRIPTION:
URL:https://www.gyritraeff.ch/event/jassen-freiwilligengruppe-10-2-2-2-2-2-2-2-3-2-2-2-3-3-2-2-2-2-2/
END:VEVENT
BEGIN:VEVENT
DTSTART;TZID=Europe/Zurich:20260630T130000
DTEND;TZID=Europe/Zurich:20260630T170000
DTSTAMP:20260421T173658
CREATED:20260107T220711Z
LAST-MODIFIED:20260107T220714Z
UID:3827-1782824400-1782838800@www.gyritraeff.ch
SUMMARY:Elterncafe
DESCRIPTION:IMG_20250919_0001 \nFlyer
URL:https://www.gyritraeff.ch/event/elterncafe-3-2-2-2-3-2-2-2-2-2-2-2-2-2-2-2-2-2-2-2-2-2-2-2-2-2-2-2-2-2/
END:VEVENT
BEGIN:VEVENT
DTSTART;TZID=Europe/Zurich:20260701T133000
DTEND;TZID=Europe/Zurich:20260701T153000
DTSTAMP:20260421T173658
CREATED:20260107T211954Z
LAST-MODIFIED:20260107T211957Z
UID:3635-1782912600-1782919800@www.gyritraeff.ch
SUMMARY:Hausaufgabentreff
DESCRIPTION: Für Alle Kinder der 1.-6. Klasse aus dem Quartier Aemmebrügg mit und ohne Hausaufgaben. \nMitbringen Hausaufgaben – Lesebuch. \nKontaktperson: Wally Achtermann\, Hausaufgabentreff 079 374 35 62
URL:https://www.gyritraeff.ch/event/hausaufgabentreff-8-3-2-2-2-3-2-2-2-2-2-2-2-2-2-2-2-2-2-2-2-2-2-2-2-2-2/
END:VEVENT
BEGIN:VEVENT
DTSTART;TZID=Europe/Zurich:20260702T143000
DTEND;TZID=Europe/Zurich:20260702T163000
DTSTAMP:20260421T173658
CREATED:20260107T214421Z
LAST-MODIFIED:20260107T214425Z
UID:3721-1783002600-1783009800@www.gyritraeff.ch
SUMMARY:Elterntreff Plus im Gyriträff
DESCRIPTION:Treffpunkt für Eltern und Kinder im Vorschulalter mit Sprachförderung. \n 
URL:https://www.gyritraeff.ch/event/elterntreff-plus-im-gyritraeff-2-2-2-2-2-2-2-3-2-2-2-2-2-2-2-2-2-2-2-2-2-2-2-2-2-2-2-2-2-2-2-2-2/
END:VEVENT
BEGIN:VEVENT
DTSTART;TZID=Europe/Zurich:20260706T200000
DTEND;TZID=Europe/Zurich:20260706T220000
DTSTAMP:20260421T173658
CREATED:20260107T201330Z
LAST-MODIFIED:20260107T201330Z
UID:3512-1783368000-1783375200@www.gyritraeff.ch
SUMMARY:Jassen - Freiwilligengruppe
DESCRIPTION:
URL:https://www.gyritraeff.ch/event/jassen-freiwilligengruppe-10-2-2-2-2-2-2-2-3-2-2-2-3-3-2-2-2-2-2-2/
END:VEVENT
BEGIN:VEVENT
DTSTART;TZID=Europe/Zurich:20260709T143000
DTEND;TZID=Europe/Zurich:20260709T163000
DTSTAMP:20260421T173658
CREATED:20260107T214437Z
LAST-MODIFIED:20260107T214440Z
UID:3723-1783607400-1783614600@www.gyritraeff.ch
SUMMARY:Elterntreff Plus im Gyriträff
DESCRIPTION:Treffpunkt für Eltern und Kinder im Vorschulalter mit Sprachförderung. \n 
URL:https://www.gyritraeff.ch/event/elterntreff-plus-im-gyritraeff-2-2-2-2-2-2-2-3-2-2-2-2-2-2-2-2-2-2-2-2-2-2-2-2-2-2-2-2-2-2-2-2-2-2/
END:VEVENT
BEGIN:VEVENT
DTSTART;TZID=Europe/Zurich:20260713T200000
DTEND;TZID=Europe/Zurich:20260713T220000
DTSTAMP:20260421T173658
CREATED:20260107T201417Z
LAST-MODIFIED:20260107T201518Z
UID:3514-1783972800-1783980000@www.gyritraeff.ch
SUMMARY:Jassen - Freiwilligengruppe
DESCRIPTION:
URL:https://www.gyritraeff.ch/event/jassen-freiwilligengruppe-10-2-2-2-2-2-2-2-3-2-2-2-3-3-2-2-2-2-2-2-2/
END:VEVENT
BEGIN:VEVENT
DTSTART;TZID=Europe/Zurich:20260716T143000
DTEND;TZID=Europe/Zurich:20260716T163000
DTSTAMP:20260421T173658
CREATED:20260107T214454Z
LAST-MODIFIED:20260107T214456Z
UID:3725-1784212200-1784219400@www.gyritraeff.ch
SUMMARY:Elterntreff Plus im Gyriträff
DESCRIPTION:Treffpunkt für Eltern und Kinder im Vorschulalter mit Sprachförderung. \n 
URL:https://www.gyritraeff.ch/event/elterntreff-plus-im-gyritraeff-2-2-2-2-2-2-2-3-2-2-2-2-2-2-2-2-2-2-2-2-2-2-2-2-2-2-2-2-2-2-2-2-2-2-2/
END:VEVENT
BEGIN:VEVENT
DTSTART;TZID=Europe/Zurich:20260720T200000
DTEND;TZID=Europe/Zurich:20260720T220000
DTSTAMP:20260421T173658
CREATED:20260107T201536Z
LAST-MODIFIED:20260107T201539Z
UID:3516-1784577600-1784584800@www.gyritraeff.ch
SUMMARY:Jassen - Freiwilligengruppe
DESCRIPTION:
URL:https://www.gyritraeff.ch/event/jassen-freiwilligengruppe-10-2-2-2-2-2-2-2-3-2-2-2-3-3-2-2-2-2-2-2-2-2/
END:VEVENT
BEGIN:VEVENT
DTSTART;TZID=Europe/Zurich:20260723T143000
DTEND;TZID=Europe/Zurich:20260723T163000
DTSTAMP:20260421T173658
CREATED:20260107T214509Z
LAST-MODIFIED:20260107T214512Z
UID:3727-1784817000-1784824200@www.gyritraeff.ch
SUMMARY:Elterntreff Plus im Gyriträff
DESCRIPTION:Treffpunkt für Eltern und Kinder im Vorschulalter mit Sprachförderung. \n 
URL:https://www.gyritraeff.ch/event/elterntreff-plus-im-gyritraeff-2-2-2-2-2-2-2-3-2-2-2-2-2-2-2-2-2-2-2-2-2-2-2-2-2-2-2-2-2-2-2-2-2-2-2-2/
END:VEVENT
BEGIN:VEVENT
DTSTART;TZID=Europe/Zurich:20260727T200000
DTEND;TZID=Europe/Zurich:20260727T220000
DTSTAMP:20260421T173658
CREATED:20260107T201604Z
LAST-MODIFIED:20260107T201608Z
UID:3518-1785182400-1785189600@www.gyritraeff.ch
SUMMARY:Jassen - Freiwilligengruppe
DESCRIPTION:
URL:https://www.gyritraeff.ch/event/jassen-freiwilligengruppe-10-2-2-2-2-2-2-2-3-2-2-2-3-3-2-2-2-2-2-2-2-2-2/
END:VEVENT
BEGIN:VEVENT
DTSTART;TZID=Europe/Zurich:20260730T143000
DTEND;TZID=Europe/Zurich:20260730T163000
DTSTAMP:20260421T173658
CREATED:20260107T214525Z
LAST-MODIFIED:20260107T214530Z
UID:3729-1785421800-1785429000@www.gyritraeff.ch
SUMMARY:Elterntreff Plus im Gyriträff
DESCRIPTION:Treffpunkt für Eltern und Kinder im Vorschulalter mit Sprachförderung. \n 
URL:https://www.gyritraeff.ch/event/elterntreff-plus-im-gyritraeff-2-2-2-2-2-2-2-3-2-2-2-2-2-2-2-2-2-2-2-2-2-2-2-2-2-2-2-2-2-2-2-2-2-2-2-2-2/
END:VEVENT
BEGIN:VEVENT
DTSTART;TZID=Europe/Zurich:20260803T200000
DTEND;TZID=Europe/Zurich:20260803T220000
DTSTAMP:20260421T173658
CREATED:20260107T201629Z
LAST-MODIFIED:20260107T201633Z
UID:3520-1785787200-1785794400@www.gyritraeff.ch
SUMMARY:Jassen - Freiwilligengruppe
DESCRIPTION:
URL:https://www.gyritraeff.ch/event/jassen-freiwilligengruppe-10-2-2-2-2-2-2-2-3-2-2-2-3-3-2-2-2-2-2-2-2-2-2-2/
END:VEVENT
BEGIN:VEVENT
DTSTART;TZID=Europe/Zurich:20260806T143000
DTEND;TZID=Europe/Zurich:20260806T163000
DTSTAMP:20260421T173658
CREATED:20260107T214549Z
LAST-MODIFIED:20260107T214552Z
UID:3731-1786026600-1786033800@www.gyritraeff.ch
SUMMARY:Elterntreff Plus im Gyriträff
DESCRIPTION:Treffpunkt für Eltern und Kinder im Vorschulalter mit Sprachförderung. \n 
URL:https://www.gyritraeff.ch/event/elterntreff-plus-im-gyritraeff-2-2-2-2-2-2-2-3-2-2-2-2-2-2-2-2-2-2-2-2-2-2-2-2-2-2-2-2-2-2-2-2-2-2-2-2-2-2/
END:VEVENT
BEGIN:VEVENT
DTSTART;TZID=Europe/Zurich:20260810T200000
DTEND;TZID=Europe/Zurich:20260810T220000
DTSTAMP:20260421T173658
CREATED:20260107T201645Z
LAST-MODIFIED:20260107T201649Z
UID:3522-1786392000-1786399200@www.gyritraeff.ch
SUMMARY:Jassen - Freiwilligengruppe
DESCRIPTION:
URL:https://www.gyritraeff.ch/event/jassen-freiwilligengruppe-10-2-2-2-2-2-2-2-3-2-2-2-3-3-2-2-2-2-2-2-2-2-2-2-2/
END:VEVENT
BEGIN:VEVENT
DTSTART;TZID=Europe/Zurich:20260812T133000
DTEND;TZID=Europe/Zurich:20260812T153000
DTSTAMP:20260421T173658
CREATED:20260107T212019Z
LAST-MODIFIED:20260107T212023Z
UID:3637-1786541400-1786548600@www.gyritraeff.ch
SUMMARY:Hausaufgabentreff
DESCRIPTION: Für Alle Kinder der 1.-6. Klasse aus dem Quartier Aemmebrügg mit und ohne Hausaufgaben. \nMitbringen Hausaufgaben – Lesebuch. \nKontaktperson: Wally Achtermann\, Hausaufgabentreff 079 374 35 62
URL:https://www.gyritraeff.ch/event/hausaufgabentreff-8-3-2-2-2-3-2-2-2-2-2-2-2-2-2-2-2-2-2-2-2-2-2-2-2-2-2-2/
END:VEVENT
BEGIN:VEVENT
DTSTART;TZID=Europe/Zurich:20260813T143000
DTEND;TZID=Europe/Zurich:20260813T163000
DTSTAMP:20260421T173658
CREATED:20260107T214606Z
LAST-MODIFIED:20260107T214611Z
UID:3733-1786631400-1786638600@www.gyritraeff.ch
SUMMARY:Elterntreff Plus im Gyriträff
DESCRIPTION:Treffpunkt für Eltern und Kinder im Vorschulalter mit Sprachförderung. \n 
URL:https://www.gyritraeff.ch/event/elterntreff-plus-im-gyritraeff-2-2-2-2-2-2-2-3-2-2-2-2-2-2-2-2-2-2-2-2-2-2-2-2-2-2-2-2-2-2-2-2-2-2-2-2-2-2-2/
END:VEVENT
BEGIN:VEVENT
DTSTART;TZID=Europe/Zurich:20260817T200000
DTEND;TZID=Europe/Zurich:20260817T220000
DTSTAMP:20260421T173658
CREATED:20260107T201700Z
LAST-MODIFIED:20260107T201703Z
UID:3524-1786996800-1787004000@www.gyritraeff.ch
SUMMARY:Jassen - Freiwilligengruppe
DESCRIPTION:
URL:https://www.gyritraeff.ch/event/jassen-freiwilligengruppe-10-2-2-2-2-2-2-2-3-2-2-2-3-3-2-2-2-2-2-2-2-2-2-2-2-2/
END:VEVENT
BEGIN:VEVENT
DTSTART;TZID=Europe/Zurich:20260819T133000
DTEND;TZID=Europe/Zurich:20260819T153000
DTSTAMP:20260421T173658
CREATED:20260107T212032Z
LAST-MODIFIED:20260107T212037Z
UID:3639-1787146200-1787153400@www.gyritraeff.ch
SUMMARY:Hausaufgabentreff
DESCRIPTION: Für Alle Kinder der 1.-6. Klasse aus dem Quartier Aemmebrügg mit und ohne Hausaufgaben. \nMitbringen Hausaufgaben – Lesebuch. \nKontaktperson: Wally Achtermann\, Hausaufgabentreff 079 374 35 62
URL:https://www.gyritraeff.ch/event/hausaufgabentreff-8-3-2-2-2-3-2-2-2-2-2-2-2-2-2-2-2-2-2-2-2-2-2-2-2-2-2-2-2/
END:VEVENT
END:VCALENDAR