BEGIN:VCALENDAR
VERSION:2.0
PRODID:-//Quartierzentrum Gyriträff - ECPv6.0.6.2//NONSGML v1.0//EN
CALSCALE:GREGORIAN
METHOD:PUBLISH
X-WR-CALNAME:Quartierzentrum Gyriträff
X-ORIGINAL-URL:https://www.gyritraeff.ch
X-WR-CALDESC:Veranstaltungen für Quartierzentrum Gyriträff
REFRESH-INTERVAL;VALUE=DURATION:PT1H
X-Robots-Tag:noindex
X-PUBLISHED-TTL:PT1H
BEGIN:VTIMEZONE
TZID:Europe/Zurich
BEGIN:DAYLIGHT
TZOFFSETFROM:+0100
TZOFFSETTO:+0200
TZNAME:CEST
DTSTART:20260329T010000
END:DAYLIGHT
BEGIN:STANDARD
TZOFFSETFROM:+0200
TZOFFSETTO:+0100
TZNAME:CET
DTSTART:20261025T010000
END:STANDARD
END:VTIMEZONE
BEGIN:VEVENT
DTSTART;TZID=Europe/Zurich:20260903T143000
DTEND;TZID=Europe/Zurich:20260903T163000
DTSTAMP:20260421T224251
CREATED:20260107T214702Z
LAST-MODIFIED:20260107T214706Z
UID:3739-1788445800-1788453000@www.gyritraeff.ch
SUMMARY:Elterntreff Plus im Gyriträff
DESCRIPTION:Treffpunkt für Eltern und Kinder im Vorschulalter mit Sprachförderung. \n 
URL:https://www.gyritraeff.ch/event/elterntreff-plus-im-gyritraeff-2-2-2-2-2-2-2-3-2-2-2-2-2-2-2-2-2-2-2-2-2-2-2-2-2-2-2-2-2-2-2-2-2-2-2-2-2-2-2-2-2-2/
END:VEVENT
BEGIN:VEVENT
DTSTART;TZID=Europe/Zurich:20260907T200000
DTEND;TZID=Europe/Zurich:20260907T220000
DTSTAMP:20260421T224251
CREATED:20260107T205344Z
LAST-MODIFIED:20260107T205347Z
UID:3530-1788811200-1788818400@www.gyritraeff.ch
SUMMARY:Jassen - Freiwilligengruppe
DESCRIPTION:
URL:https://www.gyritraeff.ch/event/jassen-freiwilligengruppe-10-2-2-2-2-2-2-2-3-2-2-2-3-3-2-2-2-2-2-2-2-2-2-2-2-2-2-2-2/
END:VEVENT
BEGIN:VEVENT
DTSTART;TZID=Europe/Zurich:20260910T143000
DTEND;TZID=Europe/Zurich:20260910T163000
DTSTAMP:20260421T224251
CREATED:20260107T214723Z
LAST-MODIFIED:20260107T214726Z
UID:3741-1789050600-1789057800@www.gyritraeff.ch
SUMMARY:Elterntreff Plus im Gyriträff
DESCRIPTION:Treffpunkt für Eltern und Kinder im Vorschulalter mit Sprachförderung. \n 
URL:https://www.gyritraeff.ch/event/elterntreff-plus-im-gyritraeff-2-2-2-2-2-2-2-3-2-2-2-2-2-2-2-2-2-2-2-2-2-2-2-2-2-2-2-2-2-2-2-2-2-2-2-2-2-2-2-2-2-2-2/
END:VEVENT
BEGIN:VEVENT
DTSTART;TZID=Europe/Zurich:20260914T200000
DTEND;TZID=Europe/Zurich:20260914T220000
DTSTAMP:20260421T224251
CREATED:20260107T205358Z
LAST-MODIFIED:20260107T205404Z
UID:3532-1789416000-1789423200@www.gyritraeff.ch
SUMMARY:Jassen - Freiwilligengruppe
DESCRIPTION:
URL:https://www.gyritraeff.ch/event/jassen-freiwilligengruppe-10-2-2-2-2-2-2-2-3-2-2-2-3-3-2-2-2-2-2-2-2-2-2-2-2-2-2-2-2-2/
END:VEVENT
BEGIN:VEVENT
DTSTART;TZID=Europe/Zurich:20260916T133000
DTEND;TZID=Europe/Zurich:20260916T153000
DTSTAMP:20260421T224251
CREATED:20260107T212138Z
LAST-MODIFIED:20260107T212301Z
UID:3645-1789565400-1789572600@www.gyritraeff.ch
SUMMARY:Hausaufgabentreff
DESCRIPTION: Für Alle Kinder der 1.-6. Klasse aus dem Quartier Aemmebrügg mit und ohne Hausaufgaben. \nMitbringen Hausaufgaben – Lesebuch. \nKontaktperson: Wally Achtermann\, Hausaufgabentreff 079 374 35 62
URL:https://www.gyritraeff.ch/event/hausaufgabentreff-8-3-2-2-2-3-2-2-2-2-2-2-2-2-2-2-2-2-2-2-2-2-2-2-2-2-2-2-2-2-2-2/
END:VEVENT
BEGIN:VEVENT
DTSTART;TZID=Europe/Zurich:20260917T143000
DTEND;TZID=Europe/Zurich:20260917T163000
DTSTAMP:20260421T224251
CREATED:20260107T214739Z
LAST-MODIFIED:20260107T214742Z
UID:3743-1789655400-1789662600@www.gyritraeff.ch
SUMMARY:Elterntreff Plus im Gyriträff
DESCRIPTION:Treffpunkt für Eltern und Kinder im Vorschulalter mit Sprachförderung. \n 
URL:https://www.gyritraeff.ch/event/elterntreff-plus-im-gyritraeff-2-2-2-2-2-2-2-3-2-2-2-2-2-2-2-2-2-2-2-2-2-2-2-2-2-2-2-2-2-2-2-2-2-2-2-2-2-2-2-2-2-2-2-2/
END:VEVENT
BEGIN:VEVENT
DTSTART;TZID=Europe/Zurich:20260921T200000
DTEND;TZID=Europe/Zurich:20260921T220000
DTSTAMP:20260421T224251
CREATED:20260107T205416Z
LAST-MODIFIED:20260107T205420Z
UID:3534-1790020800-1790028000@www.gyritraeff.ch
SUMMARY:Jassen - Freiwilligengruppe
DESCRIPTION:
URL:https://www.gyritraeff.ch/event/jassen-freiwilligengruppe-10-2-2-2-2-2-2-2-3-2-2-2-3-3-2-2-2-2-2-2-2-2-2-2-2-2-2-2-2-2-2/
END:VEVENT
BEGIN:VEVENT
DTSTART;TZID=Europe/Zurich:20260924T143000
DTEND;TZID=Europe/Zurich:20260924T163000
DTSTAMP:20260421T224251
CREATED:20260107T214757Z
LAST-MODIFIED:20260107T214800Z
UID:3745-1790260200-1790267400@www.gyritraeff.ch
SUMMARY:Elterntreff Plus im Gyriträff
DESCRIPTION:Treffpunkt für Eltern und Kinder im Vorschulalter mit Sprachförderung. \n 
URL:https://www.gyritraeff.ch/event/elterntreff-plus-im-gyritraeff-2-2-2-2-2-2-2-3-2-2-2-2-2-2-2-2-2-2-2-2-2-2-2-2-2-2-2-2-2-2-2-2-2-2-2-2-2-2-2-2-2-2-2-2-2/
END:VEVENT
BEGIN:VEVENT
DTSTART;TZID=Europe/Zurich:20260928T200000
DTEND;TZID=Europe/Zurich:20260928T220000
DTSTAMP:20260421T224251
CREATED:20260107T205432Z
LAST-MODIFIED:20260107T205436Z
UID:3536-1790625600-1790632800@www.gyritraeff.ch
SUMMARY:Jassen - Freiwilligengruppe
DESCRIPTION:
URL:https://www.gyritraeff.ch/event/jassen-freiwilligengruppe-10-2-2-2-2-2-2-2-3-2-2-2-3-3-2-2-2-2-2-2-2-2-2-2-2-2-2-2-2-2-2-2/
END:VEVENT
BEGIN:VEVENT
DTSTART;TZID=Europe/Zurich:20261001T143000
DTEND;TZID=Europe/Zurich:20261001T163000
DTSTAMP:20260421T224251
CREATED:20260107T214817Z
LAST-MODIFIED:20260107T214820Z
UID:3747-1790865000-1790872200@www.gyritraeff.ch
SUMMARY:Elterntreff Plus im Gyriträff
DESCRIPTION:Treffpunkt für Eltern und Kinder im Vorschulalter mit Sprachförderung. \n 
URL:https://www.gyritraeff.ch/event/elterntreff-plus-im-gyritraeff-2-2-2-2-2-2-2-3-2-2-2-2-2-2-2-2-2-2-2-2-2-2-2-2-2-2-2-2-2-2-2-2-2-2-2-2-2-2-2-2-2-2-2-2-2-2/
END:VEVENT
BEGIN:VEVENT
DTSTART;TZID=Europe/Zurich:20261005T200000
DTEND;TZID=Europe/Zurich:20261005T220000
DTSTAMP:20260421T224251
CREATED:20260107T205452Z
LAST-MODIFIED:20260107T205456Z
UID:3538-1791230400-1791237600@www.gyritraeff.ch
SUMMARY:Jassen - Freiwilligengruppe
DESCRIPTION:
URL:https://www.gyritraeff.ch/event/jassen-freiwilligengruppe-10-2-2-2-2-2-2-2-3-2-2-2-3-3-2-2-2-2-2-2-2-2-2-2-2-2-2-2-2-2-2-2-2/
END:VEVENT
BEGIN:VEVENT
DTSTART;TZID=Europe/Zurich:20261008T143000
DTEND;TZID=Europe/Zurich:20261008T163000
DTSTAMP:20260421T224251
CREATED:20260107T214834Z
LAST-MODIFIED:20260107T214837Z
UID:3749-1791469800-1791477000@www.gyritraeff.ch
SUMMARY:Elterntreff Plus im Gyriträff
DESCRIPTION:Treffpunkt für Eltern und Kinder im Vorschulalter mit Sprachförderung. \n 
URL:https://www.gyritraeff.ch/event/elterntreff-plus-im-gyritraeff-2-2-2-2-2-2-2-3-2-2-2-2-2-2-2-2-2-2-2-2-2-2-2-2-2-2-2-2-2-2-2-2-2-2-2-2-2-2-2-2-2-2-2-2-2-2-2/
END:VEVENT
BEGIN:VEVENT
DTSTART;TZID=Europe/Zurich:20261012T200000
DTEND;TZID=Europe/Zurich:20261012T220000
DTSTAMP:20260421T224251
CREATED:20260107T205522Z
LAST-MODIFIED:20260107T205525Z
UID:3542-1791835200-1791842400@www.gyritraeff.ch
SUMMARY:Jassen - Freiwilligengruppe
DESCRIPTION:
URL:https://www.gyritraeff.ch/event/jassen-freiwilligengruppe-10-2-2-2-2-2-2-2-3-2-2-2-3-3-2-2-2-2-2-2-2-2-2-2-2-2-2-2-2-2-2-2-2-2-2/
END:VEVENT
BEGIN:VEVENT
DTSTART;TZID=Europe/Zurich:20261014T133000
DTEND;TZID=Europe/Zurich:20261014T153000
DTSTAMP:20260421T224251
CREATED:20260107T212333Z
LAST-MODIFIED:20260107T212336Z
UID:3647-1791984600-1791991800@www.gyritraeff.ch
SUMMARY:Hausaufgabentreff
DESCRIPTION: Für Alle Kinder der 1.-6. Klasse aus dem Quartier Aemmebrügg mit und ohne Hausaufgaben. \nMitbringen Hausaufgaben – Lesebuch. \nKontaktperson: Wally Achtermann\, Hausaufgabentreff 079 374 35 62
URL:https://www.gyritraeff.ch/event/hausaufgabentreff-8-3-2-2-2-3-2-2-2-2-2-2-2-2-2-2-2-2-2-2-2-2-2-2-2-2-2-2-2-2-2-2-2/
END:VEVENT
BEGIN:VEVENT
DTSTART;TZID=Europe/Zurich:20261015T143000
DTEND;TZID=Europe/Zurich:20261015T163000
DTSTAMP:20260421T224251
CREATED:20260107T214851Z
LAST-MODIFIED:20260107T214851Z
UID:3751-1792074600-1792081800@www.gyritraeff.ch
SUMMARY:Elterntreff Plus im Gyriträff
DESCRIPTION:Treffpunkt für Eltern und Kinder im Vorschulalter mit Sprachförderung. \n 
URL:https://www.gyritraeff.ch/event/elterntreff-plus-im-gyritraeff-2-2-2-2-2-2-2-3-2-2-2-2-2-2-2-2-2-2-2-2-2-2-2-2-2-2-2-2-2-2-2-2-2-2-2-2-2-2-2-2-2-2-2-2-2-2-2-2/
END:VEVENT
BEGIN:VEVENT
DTSTART;TZID=Europe/Zurich:20261019T200000
DTEND;TZID=Europe/Zurich:20261019T220000
DTSTAMP:20260421T224251
CREATED:20260107T205607Z
LAST-MODIFIED:20260107T205610Z
UID:3544-1792440000-1792447200@www.gyritraeff.ch
SUMMARY:Jassen - Freiwilligengruppe
DESCRIPTION:
URL:https://www.gyritraeff.ch/event/jassen-freiwilligengruppe-10-2-2-2-2-2-2-2-3-2-2-2-3-3-2-2-2-2-2-2-2-2-2-2-2-2-2-2-2-2-2-2-2-2-2-2/
END:VEVENT
BEGIN:VEVENT
DTSTART;TZID=Europe/Zurich:20261021T133000
DTEND;TZID=Europe/Zurich:20261021T153000
DTSTAMP:20260421T224251
CREATED:20260107T212347Z
LAST-MODIFIED:20260107T212349Z
UID:3649-1792589400-1792596600@www.gyritraeff.ch
SUMMARY:Hausaufgabentreff
DESCRIPTION: Für Alle Kinder der 1.-6. Klasse aus dem Quartier Aemmebrügg mit und ohne Hausaufgaben. \nMitbringen Hausaufgaben – Lesebuch. \nKontaktperson: Wally Achtermann\, Hausaufgabentreff 079 374 35 62
URL:https://www.gyritraeff.ch/event/hausaufgabentreff-8-3-2-2-2-3-2-2-2-2-2-2-2-2-2-2-2-2-2-2-2-2-2-2-2-2-2-2-2-2-2-2-2-2/
END:VEVENT
BEGIN:VEVENT
DTSTART;TZID=Europe/Zurich:20261022T143000
DTEND;TZID=Europe/Zurich:20261022T163000
DTSTAMP:20260421T224251
CREATED:20260107T214954Z
LAST-MODIFIED:20260107T214958Z
UID:3753-1792679400-1792686600@www.gyritraeff.ch
SUMMARY:Elterntreff Plus im Gyriträff
DESCRIPTION:Treffpunkt für Eltern und Kinder im Vorschulalter mit Sprachförderung. \n 
URL:https://www.gyritraeff.ch/event/elterntreff-plus-im-gyritraeff-2-2-2-2-2-2-2-3-2-2-2-2-2-2-2-2-2-2-2-2-2-2-2-2-2-2-2-2-2-2-2-2-2-2-2-2-2-2-2-2-2-2-2-2-2-2-2-2-2/
END:VEVENT
BEGIN:VEVENT
DTSTART;TZID=Europe/Zurich:20261026T200000
DTEND;TZID=Europe/Zurich:20261026T220000
DTSTAMP:20260421T224251
CREATED:20260107T205623Z
LAST-MODIFIED:20260107T205626Z
UID:3546-1793044800-1793052000@www.gyritraeff.ch
SUMMARY:Jassen - Freiwilligengruppe
DESCRIPTION:
URL:https://www.gyritraeff.ch/event/jassen-freiwilligengruppe-10-2-2-2-2-2-2-2-3-2-2-2-3-3-2-2-2-2-2-2-2-2-2-2-2-2-2-2-2-2-2-2-2-2-2-2-2/
END:VEVENT
BEGIN:VEVENT
DTSTART;TZID=Europe/Zurich:20261028T133000
DTEND;TZID=Europe/Zurich:20261028T153000
DTSTAMP:20260421T224251
CREATED:20260107T212400Z
LAST-MODIFIED:20260107T212403Z
UID:3651-1793194200-1793201400@www.gyritraeff.ch
SUMMARY:Hausaufgabentreff
DESCRIPTION: Für Alle Kinder der 1.-6. Klasse aus dem Quartier Aemmebrügg mit und ohne Hausaufgaben. \nMitbringen Hausaufgaben – Lesebuch. \nKontaktperson: Wally Achtermann\, Hausaufgabentreff 079 374 35 62
URL:https://www.gyritraeff.ch/event/hausaufgabentreff-8-3-2-2-2-3-2-2-2-2-2-2-2-2-2-2-2-2-2-2-2-2-2-2-2-2-2-2-2-2-2-2-2-2-2/
END:VEVENT
BEGIN:VEVENT
DTSTART;TZID=Europe/Zurich:20261029T143000
DTEND;TZID=Europe/Zurich:20261029T163000
DTSTAMP:20260421T224251
CREATED:20260107T215032Z
LAST-MODIFIED:20260107T215035Z
UID:3755-1793284200-1793291400@www.gyritraeff.ch
SUMMARY:Elterntreff Plus im Gyriträff
DESCRIPTION:Treffpunkt für Eltern und Kinder im Vorschulalter mit Sprachförderung. \n 
URL:https://www.gyritraeff.ch/event/elterntreff-plus-im-gyritraeff-2-2-2-2-2-2-2-3-2-2-2-2-2-2-2-2-2-2-2-2-2-2-2-2-2-2-2-2-2-2-2-2-2-2-2-2-2-2-2-2-2-2-2-2-2-2-2-2-2-2/
END:VEVENT
BEGIN:VEVENT
DTSTART;TZID=Europe/Zurich:20261102T200000
DTEND;TZID=Europe/Zurich:20261102T220000
DTSTAMP:20260421T224251
CREATED:20260107T205646Z
LAST-MODIFIED:20260107T205651Z
UID:3548-1793649600-1793656800@www.gyritraeff.ch
SUMMARY:Jassen - Freiwilligengruppe
DESCRIPTION:
URL:https://www.gyritraeff.ch/event/jassen-freiwilligengruppe-10-2-2-2-2-2-2-2-3-2-2-2-3-3-2-2-2-2-2-2-2-2-2-2-2-2-2-2-2-2-2-2-2-2-2-2-2-2/
END:VEVENT
BEGIN:VEVENT
DTSTART;TZID=Europe/Zurich:20261104T133000
DTEND;TZID=Europe/Zurich:20261104T153000
DTSTAMP:20260421T224251
CREATED:20260107T212423Z
LAST-MODIFIED:20260107T212426Z
UID:3653-1793799000-1793806200@www.gyritraeff.ch
SUMMARY:Hausaufgabentreff
DESCRIPTION: Für Alle Kinder der 1.-6. Klasse aus dem Quartier Aemmebrügg mit und ohne Hausaufgaben. \nMitbringen Hausaufgaben – Lesebuch. \nKontaktperson: Wally Achtermann\, Hausaufgabentreff 079 374 35 62
URL:https://www.gyritraeff.ch/event/hausaufgabentreff-8-3-2-2-2-3-2-2-2-2-2-2-2-2-2-2-2-2-2-2-2-2-2-2-2-2-2-2-2-2-2-2-2-2-2-2/
END:VEVENT
BEGIN:VEVENT
DTSTART;TZID=Europe/Zurich:20261105T143000
DTEND;TZID=Europe/Zurich:20261105T163000
DTSTAMP:20260421T224251
CREATED:20260107T215155Z
LAST-MODIFIED:20260107T215158Z
UID:3757-1793889000-1793896200@www.gyritraeff.ch
SUMMARY:Elterntreff Plus im Gyriträff
DESCRIPTION:Treffpunkt für Eltern und Kinder im Vorschulalter mit Sprachförderung. \n 
URL:https://www.gyritraeff.ch/event/elterntreff-plus-im-gyritraeff-2-2-2-2-2-2-2-3-2-2-2-2-2-2-2-2-2-2-2-2-2-2-2-2-2-2-2-2-2-2-2-2-2-2-2-2-2-2-2-2-2-2-2-2-2-2-2-2-2-2-2/
END:VEVENT
BEGIN:VEVENT
DTSTART;TZID=Europe/Zurich:20261109T200000
DTEND;TZID=Europe/Zurich:20261109T220000
DTSTAMP:20260421T224251
CREATED:20260107T205703Z
LAST-MODIFIED:20260107T205707Z
UID:3550-1794254400-1794261600@www.gyritraeff.ch
SUMMARY:Jassen - Freiwilligengruppe
DESCRIPTION:
URL:https://www.gyritraeff.ch/event/jassen-freiwilligengruppe-10-2-2-2-2-2-2-2-3-2-2-2-3-3-2-2-2-2-2-2-2-2-2-2-2-2-2-2-2-2-2-2-2-2-2-2-2-2-2/
END:VEVENT
BEGIN:VEVENT
DTSTART;TZID=Europe/Zurich:20261111T133000
DTEND;TZID=Europe/Zurich:20261111T153000
DTSTAMP:20260421T224251
CREATED:20260107T212442Z
LAST-MODIFIED:20260107T212445Z
UID:3655-1794403800-1794411000@www.gyritraeff.ch
SUMMARY:Hausaufgabentreff
DESCRIPTION: Für Alle Kinder der 1.-6. Klasse aus dem Quartier Aemmebrügg mit und ohne Hausaufgaben. \nMitbringen Hausaufgaben – Lesebuch. \nKontaktperson: Wally Achtermann\, Hausaufgabentreff 079 374 35 62
URL:https://www.gyritraeff.ch/event/hausaufgabentreff-8-3-2-2-2-3-2-2-2-2-2-2-2-2-2-2-2-2-2-2-2-2-2-2-2-2-2-2-2-2-2-2-2-2-2-2-2/
END:VEVENT
BEGIN:VEVENT
DTSTART;TZID=Europe/Zurich:20261112T143000
DTEND;TZID=Europe/Zurich:20261112T163000
DTSTAMP:20260421T224251
CREATED:20260107T215221Z
LAST-MODIFIED:20260107T215224Z
UID:3759-1794493800-1794501000@www.gyritraeff.ch
SUMMARY:Elterntreff Plus im Gyriträff
DESCRIPTION:Treffpunkt für Eltern und Kinder im Vorschulalter mit Sprachförderung. \n 
URL:https://www.gyritraeff.ch/event/elterntreff-plus-im-gyritraeff-2-2-2-2-2-2-2-3-2-2-2-2-2-2-2-2-2-2-2-2-2-2-2-2-2-2-2-2-2-2-2-2-2-2-2-2-2-2-2-2-2-2-2-2-2-2-2-2-2-2-2-2/
END:VEVENT
BEGIN:VEVENT
DTSTART;TZID=Europe/Zurich:20261116T200000
DTEND;TZID=Europe/Zurich:20261116T220000
DTSTAMP:20260421T224251
CREATED:20260107T205726Z
LAST-MODIFIED:20260107T205730Z
UID:3552-1794859200-1794866400@www.gyritraeff.ch
SUMMARY:Jassen - Freiwilligengruppe
DESCRIPTION:
URL:https://www.gyritraeff.ch/event/jassen-freiwilligengruppe-10-2-2-2-2-2-2-2-3-2-2-2-3-3-2-2-2-2-2-2-2-2-2-2-2-2-2-2-2-2-2-2-2-2-2-2-2-2-2-2/
END:VEVENT
BEGIN:VEVENT
DTSTART;TZID=Europe/Zurich:20261118T133000
DTEND;TZID=Europe/Zurich:20261118T153000
DTSTAMP:20260421T224251
CREATED:20260107T212458Z
LAST-MODIFIED:20260107T212501Z
UID:3657-1795008600-1795015800@www.gyritraeff.ch
SUMMARY:Hausaufgabentreff
DESCRIPTION: Für Alle Kinder der 1.-6. Klasse aus dem Quartier Aemmebrügg mit und ohne Hausaufgaben. \nMitbringen Hausaufgaben – Lesebuch. \nKontaktperson: Wally Achtermann\, Hausaufgabentreff 079 374 35 62
URL:https://www.gyritraeff.ch/event/hausaufgabentreff-8-3-2-2-2-3-2-2-2-2-2-2-2-2-2-2-2-2-2-2-2-2-2-2-2-2-2-2-2-2-2-2-2-2-2-2-2-2/
END:VEVENT
BEGIN:VEVENT
DTSTART;TZID=Europe/Zurich:20261119T143000
DTEND;TZID=Europe/Zurich:20261119T163000
DTSTAMP:20260421T224251
CREATED:20260107T215235Z
LAST-MODIFIED:20260107T215238Z
UID:3761-1795098600-1795105800@www.gyritraeff.ch
SUMMARY:Elterntreff Plus im Gyriträff
DESCRIPTION:Treffpunkt für Eltern und Kinder im Vorschulalter mit Sprachförderung. \n 
URL:https://www.gyritraeff.ch/event/elterntreff-plus-im-gyritraeff-2-2-2-2-2-2-2-3-2-2-2-2-2-2-2-2-2-2-2-2-2-2-2-2-2-2-2-2-2-2-2-2-2-2-2-2-2-2-2-2-2-2-2-2-2-2-2-2-2-2-2-2-2/
END:VEVENT
END:VCALENDAR